BEGIN:VCALENDAR
PRODID:-//github.com/rianjs/ical.net//NONSGML ical.net 4.0//EN
VERSION:2.0
BEGIN:VEVENT
DESCRIPTION:Påskeferie 2027
DTEND:20270330T235959
DTSTAMP:20260425T192922Z
DTSTART;VALUE=DATE:20270322
SEQUENCE:0
SUMMARY:Påskeferie 2027
UID:ee19f75a-34ec-44c9-bc82-44179fac5c86
END:VEVENT
END:VCALENDAR
