BEGIN:VCALENDAR
PRODID:-//github.com/rianjs/ical.net//NONSGML ical.net 4.0//EN
VERSION:2.0
BEGIN:VEVENT
DESCRIPTION:Påskeferie
DTEND:20270330T000000
DTSTAMP:20260425T192922Z
DTSTART:20270322T000000
SEQUENCE:0
SUMMARY:Påskeferie
UID:095b7005-c746-4cc8-90ac-eda672cfaec7
END:VEVENT
END:VCALENDAR
