BEGIN:VCALENDAR
PRODID:-//github.com/rianjs/ical.net//NONSGML ical.net 4.0//EN
VERSION:2.0
BEGIN:VEVENT
DESCRIPTION:Første skoledag i august 2027
DTEND:20270816T000000
DTSTAMP:20260425T192820Z
DTSTART:20270816T000000
SEQUENCE:0
SUMMARY:Første skoledag i august 2027
UID:3fe58ba4-727f-45c8-94f5-7d661be7d45d
END:VEVENT
END:VCALENDAR
