BEGIN:VCALENDAR
PRODID:-//github.com/rianjs/ical.net//NONSGML ical.net 4.0//EN
VERSION:2.0
BEGIN:VEVENT
DESCRIPTION:Juleferie
DTEND:20270101T000000
DTSTAMP:20260425T192959Z
DTSTART:20261221T000000
SEQUENCE:0
SUMMARY:Juleferie
UID:c9ba8643-bea7-4ebe-9c87-917f6f01284f
END:VEVENT
END:VCALENDAR
