BEGIN:VCALENDAR
PRODID:-//github.com/rianjs/ical.net//NONSGML ical.net 4.0//EN
VERSION:2.0
BEGIN:VEVENT
DESCRIPTION:Første skoledag i august 2026
DTEND:20260817T235959
DTSTAMP:20260425T192740Z
DTSTART;VALUE=DATE:20260817
SEQUENCE:0
SUMMARY:Første skoledag i august 2026
UID:d3c6bc36-ad6e-443b-adda-19a1ebfb8d46
END:VEVENT
END:VCALENDAR
